BEGIN:VCALENDAR
VERSION:2.0
PRODID:-//City of La Quinta - ECPv6.15.18//NONSGML v1.0//EN
CALSCALE:GREGORIAN
METHOD:PUBLISH
X-WR-CALNAME:City of La Quinta
X-ORIGINAL-URL:https://www.playinlaquinta.com
X-WR-CALDESC:Events for City of La Quinta
REFRESH-INTERVAL;VALUE=DURATION:PT1H
X-Robots-Tag:noindex
X-PUBLISHED-TTL:PT1H
BEGIN:VTIMEZONE
TZID:America/Los_Angeles
BEGIN:DAYLIGHT
TZOFFSETFROM:-0800
TZOFFSETTO:-0700
TZNAME:PDT
DTSTART:20250309T100000
END:DAYLIGHT
BEGIN:STANDARD
TZOFFSETFROM:-0700
TZOFFSETTO:-0800
TZNAME:PST
DTSTART:20251102T090000
END:STANDARD
BEGIN:DAYLIGHT
TZOFFSETFROM:-0800
TZOFFSETTO:-0700
TZNAME:PDT
DTSTART:20260308T100000
END:DAYLIGHT
BEGIN:STANDARD
TZOFFSETFROM:-0700
TZOFFSETTO:-0800
TZNAME:PST
DTSTART:20261101T090000
END:STANDARD
BEGIN:DAYLIGHT
TZOFFSETFROM:-0800
TZOFFSETTO:-0700
TZNAME:PDT
DTSTART:20270314T100000
END:DAYLIGHT
BEGIN:STANDARD
TZOFFSETFROM:-0700
TZOFFSETTO:-0800
TZNAME:PST
DTSTART:20271107T090000
END:STANDARD
END:VTIMEZONE
BEGIN:VEVENT
DTSTART;VALUE=DATE:20260119
DTEND;VALUE=DATE:20260125
DTSTAMP:20260425T113733
CREATED:20251105T235221Z
LAST-MODIFIED:20251105T235221Z
UID:10001316-1768780800-1769299199@www.playinlaquinta.com
SUMMARY:The American Express PGA Tour 2026
DESCRIPTION:The American Express™ is back for its 67th year\, bringing excitement and world-class golf to the Desert from January 19–25\, 2026\, at PGA WEST and La Quinta Country Club! Watch the pros compete against the breathtaking backdrop of the Santa Rosa Mountains — then keep the energy going with unforgettable concerts! Old Dominion takes the stage on Friday\, January 23\, followed by an electrifying performance from OneRepublic on Saturday\, January 24\, 2026. It’s a week of golf\, music\, and desert magic you won’t want to miss!
URL:https://www.playinlaquinta.com/event/the-american-express-pga-tour-2026/
LOCATION:PGA West\, 50200 Avenida Vista Bonita\, La Quinta\, CA\, 92253
CATEGORIES:Signature Events
ATTACH;FMTTYPE=image/jpeg:https://www.playinlaquinta.com/wp-content/uploads/2025/11/548632845_1186923146815878_265794670971547222_n.jpg
END:VEVENT
END:VCALENDAR